BEGIN:VCALENDAR
VERSION:2.0
PRODID:-//Department Of Education//7c243a0d-03d4-432c-b73f-2f8c72426b7d
BEGIN:VTIMEZONE
TZID:Australia/Sydney
TZURL:http://tzurl.org/zoneinfo-outlook/Australia/Sydney
X-LIC-LOCATION:Australia/Sydney
BEGIN:STANDARD
TZOFFSETFROM:+1100
TZOFFSETTO:+1000
TZNAME:AEST
DTSTART:19700405T030000
RRULE:FREQ=YEARLY;BYMONTH=4;BYDAY=1SU
END:STANDARD
BEGIN:DAYLIGHT
TZOFFSETFROM:+1000
TZOFFSETTO:+1100
TZNAME:AEDT
DTSTART:19701004T020000
RRULE:FREQ=YEARLY;BYMONTH=10;BYDAY=1SU
END:DAYLIGHT
END:VTIMEZONE
CALSCALE:GREGORIAN
X-WR-TIMEZONE:Australia/Sydney
BEGIN:VEVENT
DTSTART;TZID=Australia/Sydney:20200304T160000
DTEND;TZID=Australia/Sydney:20200304T170000
DTSTAMP:20200304T000000Z
UID:911bf102-5bd3-4018-b877-acaa73e582a8
LOCATION:Singleton Heights Primary School
SUMMARY;LANGUAGE=en-us:AECG Meeting
SEQUENCE:0
DESCRIPTION:Good afternoon all, I hope your start to the 2020 year has been amazing and going well. I assume all teaching staff and students have settled back in to school life and loving it. We invite you to our first 2020 AECG meeting - which will be an amazing year for the AECG, with new faces and fresh ideas. We are looking to include as many parents, teaching staff, stakeholders and community members as possible. If you can also think of other members of the public, schools that would benefit from the AECG please pass on the invitation and also my contact details. I am looking forward to a busy and informative first meeting and 2020. Kind Regards, Kasey Hoare, President/Secretary, Singleton AECG  kaseyhoare@bigpond.com or text 0403 728 236
END:VEVENT
TRANSP:TRANSPARENT
END:VCALENDAR
